BEGIN:VCALENDAR
VERSION:2.0
PRODID:-//Tukios.com/
BEGIN:VEVENT
UID:979f95c8-5375-432c-88b9-2dcf75c4c14a@obituaries.forestlawncemetery-fh.com
DTSTAMP:20260421T235654Z
DTSTART:20260429T200000Z
DTEND:20260429T230000Z
SUMMARY:Visitation
DESCRIPTION:
URL:https://obituaries.forestlawncemetery-fh.com/obituaries/frank-califar
LOCATION: 1977 S State Rd 135  Greenwood IN 46143
GEO:39.5889092;-86.1584066
END:VEVENT
END:VCALENDAR