BEGIN:VCALENDAR
VERSION:2.0
PRODID:-//Tukios.com/
BEGIN:VEVENT
UID:15e2f229-b7c1-4df0-9486-5cd772adad6c@obituaries.forestlawncemetery-fh.com
DTSTAMP:20260422T000247Z
DTSTART:20260430T140000Z
DTEND:20260430T150000Z
SUMMARY:Funeral Service
DESCRIPTION:
URL:https://obituaries.forestlawncemetery-fh.com/obituaries/frank-califar
LOCATION: 1977 S State Rd 135  Greenwood IN 46143
GEO:39.5889092;-86.1584066
END:VEVENT
END:VCALENDAR