BEGIN:VCALENDAR
VERSION:2.0
PRODID:-//Tukios.com/
BEGIN:VEVENT
UID:e072ff9e-bc9f-4258-b8e1-6aab2c43e226@obituaries.forestlawncemetery-fh.com
DTSTAMP:20260420T223002Z
DTSTART:20260423T160000Z
DTEND:20260423T180000Z
SUMMARY:Visitation
DESCRIPTION:
URL:https://obituaries.forestlawncemetery-fh.com/obituaries/james-jim-raesner
LOCATION: 1977 S State Rd 135  Greenwood IN 46143
GEO:39.5889092;-86.1584066
END:VEVENT
END:VCALENDAR