BEGIN:VCALENDAR
VERSION:2.0
PRODID:-//Tukios.com/
BEGIN:VEVENT
UID:691ca3cf-a642-4ab2-b284-186acc885b6b@obituaries.forestlawncemetery-fh.com
DTSTAMP:20260425T001015Z
DTSTART:20260427T200000Z
DTEND:20260427T220000Z
SUMMARY:Visitation
DESCRIPTION:
URL:https://obituaries.forestlawncemetery-fh.com/obituaries/john-blanton
LOCATION: 1977 S State Rd 135  Greenwood IN 46143
GEO:39.5889092;-86.1584066
END:VEVENT
END:VCALENDAR