BEGIN:VCALENDAR
VERSION:2.0
PRODID:-//Tukios.com/
BEGIN:VEVENT
UID:42540249-cb2d-4c7b-a2e4-3bd3cfb62a0a@obituaries.forestlawncemetery-fh.com
DTSTAMP:20260425T001234Z
DTSTART:20260427T220000Z
DTEND:20260427T230000Z
SUMMARY:Funeral Service
DESCRIPTION:
URL:https://obituaries.forestlawncemetery-fh.com/obituaries/john-blanton
LOCATION: 1977 S State Rd 135  Greenwood IN 46143
GEO:39.5889092;-86.1584066
END:VEVENT
END:VCALENDAR