BEGIN:VCALENDAR
VERSION:2.0
PRODID:-//Tukios.com/
BEGIN:VEVENT
UID:d9e2cb51-afa4-4bb3-aea1-fd0be58f9df4@obituaries.forestlawncemetery-fh.com
DTSTAMP:20260422T174259Z
DTSTART:20260502T140000Z
DTEND:20260502T160000Z
SUMMARY:Visitation
DESCRIPTION:
URL:https://obituaries.forestlawncemetery-fh.com/obituaries/nida-standeford
LOCATION: 1977 S. State Road 135  Greenwood IN 46143
GEO:39.5843136;-86.158983
END:VEVENT
END:VCALENDAR