BEGIN:VCALENDAR
VERSION:2.0
PRODID:-//Tukios.com/
BEGIN:VEVENT
UID:305e8f44-bcf9-4ab1-b1d1-f9a791fea2cd@obituaries.forestlawncemetery-fh.com
DTSTAMP:20260422T174618Z
DTSTART:20260502T160000Z
DTEND:20260502T170000Z
SUMMARY:Funeral Service
DESCRIPTION:
URL:https://obituaries.forestlawncemetery-fh.com/obituaries/nida-standeford
LOCATION: 1977 S. State Road 135  Greenwood IN 46143
GEO:39.5843136;-86.158983
END:VEVENT
END:VCALENDAR